BEGIN:VCALENDAR
VERSION:2.0
PRODID:-//Squarespace Inc/Squarespace 6//v6//EN
BEGIN:VEVENT
UID:59c468938fd4d2c8739bb726@squarespace.com
DTSTAMP:20170922T013937Z
DTSTART:20171020T100000Z
DTEND:20171020T130000Z
SUMMARY:Kalamunda Night Markets 
GEO:-31.972436;116.059078
LOCATION:Kalamunda Night Market\, Haynes street\, Nestobrae Lane and Kalmun
 da Central Mall\, Kaamunda Wa 6076\, Australia
END:VEVENT
END:VCALENDAR
