BEGIN:VCALENDAR
VERSION:2.0
PRODID:-//Squarespace Inc/Squarespace 6//v6//EN
BEGIN:VEVENT
UID:59bb3fec4c0dbf3491c67b92@squarespace.com
DTSTAMP:20180510T081936Z
DTSTART:20180526T060000Z
DTEND:20180526T083000Z
SUMMARY:Kokedama Workshop - SOLD OUT
GEO:-31.98224;115.90019
LOCATION:Victoria Park Centre for the Arts\, 12 Kent Street\, East Victoria 
 Park\, WA\, 6101\, Australia
END:VEVENT
END:VCALENDAR
