BEGIN:VCALENDAR
VERSION:2.0
PRODID:-//Squarespace Inc/Squarespace 6//v6//EN
BEGIN:VEVENT
UID:59bf0157f14aa1b6bba97f45@squarespace.com
DTSTAMP:20171118T120529Z
DTSTART:20171217T010000Z
DTEND:20171217T070000Z
SUMMARY:Stirling Square Markets
GEO:-31.897976;115.970295
LOCATION:Stirling Square Markets\, Stirling Square Markets\, Guildford\, We
 stern Australia\, 6055\, Australia
END:VEVENT
END:VCALENDAR
