BEGIN:VCALENDAR
VERSION:2.0
PRODID:-//Squarespace Inc/Squarespace 6//v6//EN
BEGIN:VEVENT
UID:5a88f60c08522933c2e73274@squarespace.com
DTSTAMP:20180523T085953Z
DTSTART:20180603T000000Z
DTEND:20180603T040000Z
SUMMARY:Victoria Park Farmers Market 
GEO:-31.98342;115.899802
LOCATION:Victoria park perth\, John macmillan park\, WA\, Australia
END:VEVENT
END:VCALENDAR
